Package: clevRvis Version: 1.8.0 Command: /Library/Frameworks/R.framework/Resources/bin/R CMD INSTALL clevRvis StartedAt: 2025-05-05 15:14:55 -0400 (Mon, 05 May 2025) EndedAt: 2025-05-05 15:15:36 -0400 (Mon, 05 May 2025) EllapsedTime: 40.9 seconds RetCode: 0 Status: OK