Package: clevRvis Version: 1.8.0 Command: /Library/Frameworks/R.framework/Resources/bin/R CMD check --install=check:clevRvis.install-out.txt --library=/Library/Frameworks/R.framework/Resources/library --no-vignettes --timings clevRvis_1.8.0.tar.gz StartedAt: 2025-04-21 18:39:45 -0400 (Mon, 21 Apr 2025) EndedAt: 2025-04-21 18:40:11 -0400 (Mon, 21 Apr 2025) EllapsedTime: 25.3 seconds RetCode: 0 Status: OK CheckDir: clevRvis.Rcheck Warnings: 0