Package: cleaver Version: 1.46.0 Command: rm -rf cleaver.buildbin-libdir && mkdir cleaver.buildbin-libdir && /Users/biocbuild/BBS/utils/build-universal.sh cleaver_1.46.0.tar.gz /Library/Frameworks/R.framework/Resources/bin/R cleaver.buildbin-libdir StartedAt: 2025-10-04 17:22:55 -0400 (Sat, 04 Oct 2025) EndedAt: 2025-10-04 17:23:09 -0400 (Sat, 04 Oct 2025) EllapsedTime: 13.4 seconds RetCode: 0 Status: OK PackageFile: cleaver_1.46.0.tgz PackageFileSize: 381 KiB