Package: cleanUpdTSeq Version: 1.46.0 Command: rm -rf cleanUpdTSeq.buildbin-libdir && mkdir cleanUpdTSeq.buildbin-libdir && E:\biocbuild\bbs-3.21-bioc\R\bin\R.exe CMD INSTALL --build --library=cleanUpdTSeq.buildbin-libdir cleanUpdTSeq_1.46.0.tar.gz StartedAt: 2025-08-15 08:59:58 -0400 (Fri, 15 Aug 2025) EndedAt: 2025-08-15 09:01:14 -0400 (Fri, 15 Aug 2025) EllapsedTime: 75.9 seconds RetCode: 0 Status: OK PackageFile: cleanUpdTSeq_1.46.0.zip PackageFileSize: 5.868 MiB