Package: cisPath Version: 1.48.0 Command: /Library/Frameworks/R.framework/Resources/bin/R CMD INSTALL cisPath StartedAt: 2025-07-21 15:07:09 -0400 (Mon, 21 Jul 2025) EndedAt: 2025-07-21 15:07:21 -0400 (Mon, 21 Jul 2025) EllapsedTime: 12.1 seconds RetCode: 0 Status: OK