Package: circRNAprofiler Version: 1.20.0 Command: /home/biocbuild/R/R/bin/R CMD INSTALL circRNAprofiler StartedAt: 2025-01-30 20:56:25 -0000 (Thu, 30 Jan 2025) EndedAt: 2025-01-30 20:57:26 -0000 (Thu, 30 Jan 2025) EllapsedTime: 61.0 seconds RetCode: 0 Status: OK