Package: cicero Version: 1.26.0 Command: /home/biocbuild/bbs-3.21-bioc/R/bin/R CMD build --keep-empty-dirs --no-resave-data cicero StartedAt: 2025-10-01 16:47:48 -0400 (Wed, 01 Oct 2025) EndedAt: 2025-10-01 16:49:43 -0400 (Wed, 01 Oct 2025) EllapsedTime: 115.1 seconds RetCode: 0 Status: OK PackageFile: cicero_1.26.0.tar.gz PackageFileSize: 1.182 MiB