Package: cicero Version: 1.26.0 Maintainer: Hannah Pliner MaintainerEmail: hpliner at uw.edu git_url: https://git.bioconductor.org/packages/cicero git_branch: RELEASE_3_21 git_last_commit: f346fba git_last_commit_date: 2025-04-15 11:37:41 -0400 (Tue, 15 Apr 2025)