Package: chromVAR Version: 1.28.0 Command: /home/biocbuild/R/R/bin/R CMD check --install=check:chromVAR.install-out.txt --library=/home/biocbuild/R/R/site-library --no-vignettes --timings chromVAR_1.28.0.tar.gz StartedAt: 2025-01-31 04:53:15 -0000 (Fri, 31 Jan 2025) EndedAt: 2025-01-31 05:01:14 -0000 (Fri, 31 Jan 2025) EllapsedTime: 478.4 seconds RetCode: 0 Status: OK CheckDir: chromVAR.Rcheck Warnings: 0