Package: chromVAR Version: 1.28.0 Command: /home/biocbuild/R/R/bin/R CMD build --keep-empty-dirs --no-resave-data chromVAR StartedAt: 2025-01-30 22:36:43 -0000 (Thu, 30 Jan 2025) EndedAt: 2025-01-30 22:40:30 -0000 (Thu, 30 Jan 2025) EllapsedTime: 226.5 seconds RetCode: 0 Status: OK PackageFile: chromVAR_1.28.0.tar.gz PackageFileSize: 440.3 KiB