Package: chromVAR Version: 1.28.0 Command: /home/biocbuild/bbs-3.20-bioc/R/bin/R CMD INSTALL chromVAR StartedAt: 2025-01-30 15:33:25 -0500 (Thu, 30 Jan 2025) EndedAt: 2025-01-30 15:34:39 -0500 (Thu, 30 Jan 2025) EllapsedTime: 74.1 seconds RetCode: 0 Status: OK