Package: chromVAR Version: 1.28.0 Command: /home/biocbuild/bbs-3.20-bioc/R/bin/R CMD check --install=check:chromVAR.install-out.txt --library=/home/biocbuild/bbs-3.20-bioc/R/site-library --timings chromVAR_1.28.0.tar.gz StartedAt: 2025-01-30 20:48:12 -0500 (Thu, 30 Jan 2025) EndedAt: 2025-01-30 20:56:10 -0500 (Thu, 30 Jan 2025) EllapsedTime: 477.5 seconds RetCode: 0 Status: OK CheckDir: chromVAR.Rcheck Warnings: 0