Package: chromVAR Version: 1.30.0 Command: /Library/Frameworks/R.framework/Resources/bin/R CMD INSTALL chromVAR StartedAt: 2025-05-05 16:29:55 -0400 (Mon, 05 May 2025) EndedAt: 2025-05-05 16:32:08 -0400 (Mon, 05 May 2025) EllapsedTime: 133.3 seconds RetCode: 0 Status: OK