Package: chromVAR Version: 1.30.0 Command: /Library/Frameworks/R.framework/Resources/bin/R CMD INSTALL chromVAR StartedAt: 2025-04-21 15:40:42 -0400 (Mon, 21 Apr 2025) EndedAt: 2025-04-21 15:42:02 -0400 (Mon, 21 Apr 2025) EllapsedTime: 80.7 seconds RetCode: 0 Status: OK