Package: chromVAR Version: 1.30.1 Command: rm -rf chromVAR.buildbin-libdir && mkdir chromVAR.buildbin-libdir && /Users/biocbuild/BBS/utils/build-universal.sh chromVAR_1.30.1.tar.gz /Library/Frameworks/R.framework/Resources/bin/R chromVAR.buildbin-libdir StartedAt: 2025-05-14 14:24:04 -0400 (Wed, 14 May 2025) EndedAt: 2025-05-14 14:25:19 -0400 (Wed, 14 May 2025) EllapsedTime: 75.6 seconds RetCode: 0 Status: OK PackageFile: chromVAR_1.30.1.tgz PackageFileSize: 1.368 MiB