Package: chromPlot Version: 1.36.0 Command: rm -rf chromPlot.buildbin-libdir && mkdir chromPlot.buildbin-libdir && E:\biocbuild\bbs-3.21-bioc\R\bin\R.exe CMD INSTALL --build --library=chromPlot.buildbin-libdir chromPlot_1.36.0.tar.gz StartedAt: 2025-08-15 08:59:08 -0400 (Fri, 15 Aug 2025) EndedAt: 2025-08-15 08:59:36 -0400 (Fri, 15 Aug 2025) EllapsedTime: 27.9 seconds RetCode: 0 Status: OK PackageFile: chromPlot_1.36.0.zip PackageFileSize: 1.428 MiB