Package: chipenrich Version: 2.30.0 Command: chmod a+r chipenrich -R && F:\biocbuild\bbs-3.20-bioc\R\bin\R.exe CMD build --keep-empty-dirs --no-resave-data chipenrich StartedAt: 2025-01-30 17:53:14 -0500 (Thu, 30 Jan 2025) EndedAt: 2025-01-30 17:55:21 -0500 (Thu, 30 Jan 2025) EllapsedTime: 127.6 seconds RetCode: 0 Status: OK PackageFile: chipenrich_2.30.0.tar.gz PackageFileSize: 439.4 KiB