Package: chipenrich Version: 2.30.0 Command: /Library/Frameworks/R.framework/Resources/bin/R CMD check --install=check:chipenrich.install-out.txt --library=/Library/Frameworks/R.framework/Resources/library --no-vignettes --timings chipenrich_2.30.0.tar.gz StartedAt: 2025-01-31 01:32:19 -0500 (Fri, 31 Jan 2025) EndedAt: 2025-01-31 01:48:23 -0500 (Fri, 31 Jan 2025) EllapsedTime: 964.2 seconds RetCode: 1 Status: ERROR CheckDir: chipenrich.Rcheck Warnings: NA