Package: chipenrich Version: 2.32.0 Command: /Library/Frameworks/R.framework/Resources/bin/R CMD build --keep-empty-dirs --no-resave-data chipenrich StartedAt: 2025-04-28 21:18:14 -0400 (Mon, 28 Apr 2025) EndedAt: 2025-04-28 21:21:20 -0400 (Mon, 28 Apr 2025) EllapsedTime: 186.8 seconds RetCode: 0 Status: OK PackageFile: chipenrich_2.32.0.tar.gz PackageFileSize: 653.7 KiB