Package: chipenrich Version: 2.30.0 Command: rm -rf chipenrich.buildbin-libdir && mkdir chipenrich.buildbin-libdir && /Users/biocbuild/BBS/utils/build-universal.sh chipenrich_2.30.0.tar.gz /Library/Frameworks/R.framework/Resources/bin/R chipenrich.buildbin-libdir StartedAt: 2025-01-31 12:30:24 -0500 (Fri, 31 Jan 2025) EndedAt: 2025-01-31 12:31:56 -0500 (Fri, 31 Jan 2025) EllapsedTime: 92.1 seconds RetCode: 0 Status: OK PackageFile: chipenrich_2.30.0.tgz PackageFileSize: 880.3 KiB