Package: chipenrich Version: 2.32.0 Command: /home/biocbuild/R/R/bin/R CMD INSTALL chipenrich StartedAt: 2025-05-12 20:46:16 -0000 (Mon, 12 May 2025) EndedAt: 2025-05-12 20:47:17 -0000 (Mon, 12 May 2025) EllapsedTime: 60.6 seconds RetCode: 0 Status: OK