Package: chipenrich Version: 2.32.0 Command: /home/biocbuild/R/R/bin/R CMD check --install=check:chipenrich.install-out.txt --library=/home/biocbuild/R/R/site-library --no-vignettes --timings chipenrich_2.32.0.tar.gz StartedAt: 2025-05-13 06:57:03 -0000 (Tue, 13 May 2025) EndedAt: 2025-05-13 07:08:11 -0000 (Tue, 13 May 2025) EllapsedTime: 667.5 seconds RetCode: 0 Status: OK CheckDir: chipenrich.Rcheck Warnings: 0