Package: chihaya Version: 1.6.0 Command: /home/biocbuild/R/R/bin/R CMD check --install=check:chihaya.install-out.txt --library=/home/biocbuild/R/R/site-library --no-vignettes --timings chihaya_1.6.0.tar.gz StartedAt: 2025-01-31 04:50:06 -0000 (Fri, 31 Jan 2025) EndedAt: 2025-01-31 04:52:52 -0000 (Fri, 31 Jan 2025) EllapsedTime: 166.2 seconds RetCode: 0 Status: WARNINGS CheckDir: chihaya.Rcheck Warnings: 1