Package: chevreulShiny Version: 1.2.0 Command: /home/biocbuild/bbs-3.22-bioc/R/bin/R CMD INSTALL chevreulShiny StartedAt: 2025-11-02 16:14:28 -0500 (Sun, 02 Nov 2025) EndedAt: 2025-11-02 16:15:28 -0500 (Sun, 02 Nov 2025) EllapsedTime: 60.2 seconds RetCode: 0 Status: OK