Package: chevreulShiny Version: 1.2.0 Command: /home/biocbuild/bbs-3.22-bioc/R/bin/R CMD build --keep-empty-dirs --no-resave-data --md5 chevreulShiny StartedAt: 2025-11-02 17:02:31 -0500 (Sun, 02 Nov 2025) EndedAt: 2025-11-02 17:03:50 -0500 (Sun, 02 Nov 2025) EllapsedTime: 79.1 seconds RetCode: 0 Status: OK PackageFile: chevreulShiny_1.2.0.tar.gz PackageFileSize: 7.473 MiB