Package: chevreulProcess Version: 1.2.0 Command: /home/biocbuild/bbs-3.22-bioc/R/bin/R CMD INSTALL chevreulProcess StartedAt: 2025-11-06 15:58:01 -0500 (Thu, 06 Nov 2025) EndedAt: 2025-11-06 15:58:58 -0500 (Thu, 06 Nov 2025) EllapsedTime: 56.3 seconds RetCode: 0 Status: OK