Package: chevreulProcess Version: 1.2.0 Command: /home/biocbuild/bbs-3.22-bioc/R/bin/R CMD build --keep-empty-dirs --no-resave-data --md5 chevreulProcess StartedAt: 2025-11-06 16:48:14 -0500 (Thu, 06 Nov 2025) EndedAt: 2025-11-06 16:49:27 -0500 (Thu, 06 Nov 2025) EllapsedTime: 73.1 seconds RetCode: 0 Status: OK PackageFile: chevreulProcess_1.2.0.tar.gz PackageFileSize: 4.76 MiB