Package: chevreulProcess Version: 1.2.0 Command: /Library/Frameworks/R.framework/Resources/bin/R CMD INSTALL chevreulProcess StartedAt: 2025-11-03 15:53:35 -0500 (Mon, 03 Nov 2025) EndedAt: 2025-11-03 15:54:48 -0500 (Mon, 03 Nov 2025) EllapsedTime: 72.7 seconds RetCode: 0 Status: OK