Package: chevreulProcess Version: 1.2.0 Command: /Library/Frameworks/R.framework/Resources/bin/R CMD INSTALL chevreulProcess StartedAt: 2025-11-06 15:29:58 -0500 (Thu, 06 Nov 2025) EndedAt: 2025-11-06 15:30:26 -0500 (Thu, 06 Nov 2025) EllapsedTime: 27.9 seconds RetCode: 0 Status: OK