Package: chevreulProcess Version: 1.2.0 Command: /Library/Frameworks/R.framework/Resources/bin/R CMD build --keep-empty-dirs --no-resave-data chevreulProcess StartedAt: 2025-11-06 15:54:46 -0500 (Thu, 06 Nov 2025) EndedAt: 2025-11-06 15:55:18 -0500 (Thu, 06 Nov 2025) EllapsedTime: 31.4 seconds RetCode: 0 Status: OK PackageFile: chevreulProcess_1.2.0.tar.gz PackageFileSize: 4.755 MiB