Package: chevreulProcess Version: 1.2.0 Command: rm -rf chevreulProcess.buildbin-libdir && mkdir chevreulProcess.buildbin-libdir && /Users/biocbuild/BBS/utils/build-universal.sh chevreulProcess_1.2.0.tar.gz /Library/Frameworks/R.framework/Resources/bin/R chevreulProcess.buildbin-libdir StartedAt: 2025-11-06 22:59:09 -0500 (Thu, 06 Nov 2025) EndedAt: 2025-11-06 22:59:32 -0500 (Thu, 06 Nov 2025) EllapsedTime: 23.4 seconds RetCode: 0 Status: OK PackageFile: chevreulProcess_1.2.0.tgz PackageFileSize: 4.866 MiB