Package: chevreulPlot Version: 1.2.0 Command: /home/biocbuild/bbs-3.22-bioc/R/bin/R CMD INSTALL chevreulPlot StartedAt: 2025-11-16 16:02:12 -0500 (Sun, 16 Nov 2025) EndedAt: 2025-11-16 16:03:14 -0500 (Sun, 16 Nov 2025) EllapsedTime: 61.6 seconds RetCode: 0 Status: OK