Package: chevreulPlot Version: 1.2.0 Command: /Library/Frameworks/R.framework/Resources/bin/R CMD INSTALL chevreulPlot StartedAt: 2025-11-10 15:30:43 -0500 (Mon, 10 Nov 2025) EndedAt: 2025-11-10 15:31:05 -0500 (Mon, 10 Nov 2025) EllapsedTime: 22.1 seconds RetCode: 0 Status: OK