Package: chevreulPlot Version: 1.2.0 Command: /Library/Frameworks/R.framework/Resources/bin/R CMD build --keep-empty-dirs --no-resave-data chevreulPlot StartedAt: 2025-11-10 15:54:38 -0500 (Mon, 10 Nov 2025) EndedAt: 2025-11-10 15:55:13 -0500 (Mon, 10 Nov 2025) EllapsedTime: 34.4 seconds RetCode: 0 Status: OK PackageFile: chevreulPlot_1.2.0.tar.gz PackageFileSize: 12.9 MiB