Package: cfdnakit Version: 1.4.0 Command: /home/biocbuild/bbs-3.20-bioc/R/bin/R CMD build --keep-empty-dirs --no-resave-data cfdnakit StartedAt: 2024-11-19 17:59:22 -0500 (Tue, 19 Nov 2024) EndedAt: 2024-11-19 18:00:01 -0500 (Tue, 19 Nov 2024) EllapsedTime: 38.3 seconds RetCode: 0 Status: OK PackageFile: cfdnakit_1.4.0.tar.gz PackageFileSize: 3.085 MiB