Package: cfdnakit Version: 1.4.0 Command: /home/biocbuild/R/R/bin/R CMD check --install=check:cfdnakit.install-out.txt --library=/home/biocbuild/R/R/site-library --no-vignettes --timings cfdnakit_1.4.0.tar.gz StartedAt: 2025-01-31 04:47:39 -0000 (Fri, 31 Jan 2025) EndedAt: 2025-01-31 04:51:58 -0000 (Fri, 31 Jan 2025) EllapsedTime: 259.3 seconds RetCode: 0 Status: OK CheckDir: cfdnakit.Rcheck Warnings: 0