Package: cfTools Version: 1.6.0 Command: /Library/Frameworks/R.framework/Resources/bin/R CMD check --install=check:cfTools.install-out.txt --library=/Library/Frameworks/R.framework/Resources/library --no-vignettes --timings cfTools_1.6.0.tar.gz StartedAt: 2025-02-04 01:04:26 -0500 (Tue, 04 Feb 2025) EndedAt: 2025-02-04 01:12:05 -0500 (Tue, 04 Feb 2025) EllapsedTime: 458.5 seconds RetCode: 0 Status: OK CheckDir: cfTools.Rcheck Warnings: 0