Package: cfTools Version: 1.6.0 Command: rm -rf cfTools.buildbin-libdir && mkdir cfTools.buildbin-libdir && /Users/biocbuild/BBS/utils/build-universal.sh cfTools_1.6.0.tar.gz /Library/Frameworks/R.framework/Resources/bin/R cfTools.buildbin-libdir StartedAt: 2025-01-31 12:30:00 -0500 (Fri, 31 Jan 2025) EndedAt: 2025-01-31 12:31:38 -0500 (Fri, 31 Jan 2025) EllapsedTime: 97.4 seconds RetCode: 0 Status: OK PackageFile: cfTools_1.6.0.tgz PackageFileSize: 1.201 MiB