Package: cfTools Version: 1.6.0 Command: /Library/Frameworks/R.framework/Resources/bin/R CMD INSTALL cfTools StartedAt: 2025-01-30 15:44:58 -0500 (Thu, 30 Jan 2025) EndedAt: 2025-01-30 15:45:42 -0500 (Thu, 30 Jan 2025) EllapsedTime: 44.3 seconds RetCode: 0 Status: OK