Package: cfTools Version: 1.6.0 Command: rm -rf cfTools.buildbin-libdir && mkdir cfTools.buildbin-libdir && /Users/biocbuild/BBS/utils/build-universal.sh cfTools_1.6.0.tar.gz /Library/Frameworks/R.framework/Resources/bin/R cfTools.buildbin-libdir StartedAt: 2025-02-01 14:15:07 -0500 (Sat, 01 Feb 2025) EndedAt: 2025-02-01 14:15:55 -0500 (Sat, 01 Feb 2025) EllapsedTime: 47.7 seconds RetCode: 0 Status: OK PackageFile: cfTools_1.6.0.tgz PackageFileSize: 1.19 MiB