Package: cellxgenedp Version: 1.14.0 Command: /home/biocbuild/bbs-3.22-bioc/R/bin/R CMD INSTALL cellxgenedp StartedAt: 2025-11-14 15:10:21 -0500 (Fri, 14 Nov 2025) EndedAt: 2025-11-14 15:10:29 -0500 (Fri, 14 Nov 2025) EllapsedTime: 7.3 seconds RetCode: 0 Status: OK