Package: cellxgenedp Version: 1.14.0 Command: /home/biocbuild/bbs-3.22-bioc/R/bin/R CMD build --keep-empty-dirs --no-resave-data --md5 cellxgenedp StartedAt: 2025-11-14 16:47:06 -0500 (Fri, 14 Nov 2025) EndedAt: 2025-11-14 16:48:40 -0500 (Fri, 14 Nov 2025) EllapsedTime: 94.0 seconds RetCode: 0 Status: OK PackageFile: cellxgenedp_1.14.0.tar.gz PackageFileSize: 473.3 KiB