Package: cellxgenedp Version: 1.12.1 Command: rm -rf cellxgenedp.buildbin-libdir && mkdir cellxgenedp.buildbin-libdir && /Users/biocbuild/BBS/utils/build-universal.sh cellxgenedp_1.12.1.tar.gz /Library/Frameworks/R.framework/Resources/bin/R cellxgenedp.buildbin-libdir StartedAt: 2025-10-10 13:00:35 -0400 (Fri, 10 Oct 2025) EndedAt: 2025-10-10 13:00:48 -0400 (Fri, 10 Oct 2025) EllapsedTime: 12.9 seconds RetCode: 0 Status: OK PackageFile: cellxgenedp_1.12.1.tgz PackageFileSize: 505.3 KiB