Package: cellxgenedp Version: 1.12.0 Command: rm -rf cellxgenedp.buildbin-libdir && mkdir cellxgenedp.buildbin-libdir && /Users/biocbuild/BBS/utils/build-universal.sh cellxgenedp_1.12.0.tar.gz /Library/Frameworks/R.framework/Resources/bin/R cellxgenedp.buildbin-libdir StartedAt: 2025-04-21 22:29:08 -0400 (Mon, 21 Apr 2025) EndedAt: 2025-04-21 22:29:11 -0400 (Mon, 21 Apr 2025) EllapsedTime: 3.1 seconds RetCode: 0 Status: OK PackageFile: cellxgenedp_1.12.0.tgz PackageFileSize: 505.7 KiB