Package: cellscape Version: 1.30.0 Command: /home/biocbuild/R/R/bin/R CMD check --install=check:cellscape.install-out.txt --library=/home/biocbuild/R/R/site-library --no-vignettes --timings cellscape_1.30.0.tar.gz StartedAt: 2025-01-31 04:45:26 -0000 (Fri, 31 Jan 2025) EndedAt: 2025-01-31 04:45:56 -0000 (Fri, 31 Jan 2025) EllapsedTime: 30.0 seconds RetCode: 0 Status: OK CheckDir: cellscape.Rcheck Warnings: 0