Package: cellscape Version: 1.32.0 Command: chmod a+r cellscape -R && E:\biocbuild\bbs-3.21-bioc\R\bin\R.exe CMD build --keep-empty-dirs --no-resave-data cellscape StartedAt: 2025-08-14 17:55:36 -0400 (Thu, 14 Aug 2025) EndedAt: 2025-08-14 17:55:53 -0400 (Thu, 14 Aug 2025) EllapsedTime: 17.0 seconds RetCode: 0 Status: OK PackageFile: cellscape_1.32.0.tar.gz PackageFileSize: 898.4 KiB