Package: cellscape Version: 1.32.0 Maintainer: Shixiang Wang MaintainerEmail: w_shixiang at 163.com git_url: https://git.bioconductor.org/packages/cellscape git_branch: RELEASE_3_21 git_last_commit: 540b310 git_last_commit_date: 2025-04-15 11:08:52 -0400 (Tue, 15 Apr 2025)