Package: cellmigRation Version: 1.16.0 Command: /home/biocbuild/R/R/bin/R CMD build --keep-empty-dirs --no-resave-data cellmigRation StartedAt: 2025-05-19 23:27:00 -0000 (Mon, 19 May 2025) EndedAt: 2025-05-19 23:30:30 -0000 (Mon, 19 May 2025) EllapsedTime: 210.1 seconds RetCode: 0 Status: OK PackageFile: cellmigRation_1.16.0.tar.gz PackageFileSize: 1.139 MiB