Package: celaref Version: 1.24.0 Command: /home/biocbuild/R/R/bin/R CMD INSTALL celaref StartedAt: 2025-01-30 20:18:41 -0000 (Thu, 30 Jan 2025) EndedAt: 2025-01-30 20:19:14 -0000 (Thu, 30 Jan 2025) EllapsedTime: 33.3 seconds RetCode: 0 Status: OK