Package: ceRNAnetsim Version: 1.20.0 Command: rm -rf ceRNAnetsim.buildbin-libdir && mkdir ceRNAnetsim.buildbin-libdir && E:\biocbuild\bbs-3.21-bioc\R\bin\R.exe CMD INSTALL --build --library=ceRNAnetsim.buildbin-libdir ceRNAnetsim_1.20.0.tar.gz StartedAt: 2025-08-15 08:57:33 -0400 (Fri, 15 Aug 2025) EndedAt: 2025-08-15 08:58:02 -0400 (Fri, 15 Aug 2025) EllapsedTime: 29.5 seconds RetCode: 0 Status: OK PackageFile: ceRNAnetsim_1.20.0.zip PackageFileSize: 2.363 MiB